BEGIN:VCALENDAR
VERSION:2.0
PRODID:-//Tunxis Hose Company No. 1 - ECPv6.15.20//NONSGML v1.0//EN
CALSCALE:GREGORIAN
METHOD:PUBLISH
X-WR-CALNAME:Tunxis Hose Company No. 1
X-ORIGINAL-URL:https://tunxishose.com
X-WR-CALDESC:Events for Tunxis Hose Company No. 1
REFRESH-INTERVAL;VALUE=DURATION:PT1H
X-Robots-Tag:noindex
X-PUBLISHED-TTL:PT1H
BEGIN:VTIMEZONE
TZID:America/New_York
BEGIN:DAYLIGHT
TZOFFSETFROM:-0500
TZOFFSETTO:-0400
TZNAME:EDT
DTSTART:20250309T070000
END:DAYLIGHT
BEGIN:STANDARD
TZOFFSETFROM:-0400
TZOFFSETTO:-0500
TZNAME:EST
DTSTART:20251102T060000
END:STANDARD
BEGIN:DAYLIGHT
TZOFFSETFROM:-0500
TZOFFSETTO:-0400
TZNAME:EDT
DTSTART:20260308T070000
END:DAYLIGHT
BEGIN:STANDARD
TZOFFSETFROM:-0400
TZOFFSETTO:-0500
TZNAME:EST
DTSTART:20261101T060000
END:STANDARD
BEGIN:DAYLIGHT
TZOFFSETFROM:-0500
TZOFFSETTO:-0400
TZNAME:EDT
DTSTART:20270314T070000
END:DAYLIGHT
BEGIN:STANDARD
TZOFFSETFROM:-0400
TZOFFSETTO:-0500
TZNAME:EST
DTSTART:20271107T060000
END:STANDARD
END:VTIMEZONE
BEGIN:VEVENT
DTSTART;TZID=America/New_York:20260608T100000
DTEND;TZID=America/New_York:20260608T170000
DTSTAMP:20260423T050456
CREATED:20240304T190546Z
LAST-MODIFIED:20260409T014020Z
UID:444-1780912800-1780938000@tunxishose.com
SUMMARY:43rd Annual Tunxis Hose Golf Classic
DESCRIPTION:Tunxis Hose would like to invite you to join us at the 43 rd Annual Tunxis Hose Company No. 1 Golf Classic at the beautiful and exclusive Lionheart Country Club. This year classic will be on Monday June 8th\, 2026 and the cost will be $150 per golfer. The cost for the day includes 18 holes of golf\, cart\, use of the driving range\, luncheon and dinner. A teacup style raffle will be on display outside at lunch. We will have a shotgun start at 12:00 PM (Noon) with a scramble format. On select holes throughout the course we will have several contests to show off your talents\, including closest to the pin and longest drive. On the course we will also have 50/50 raffle holes including the crowd favorite “Firefighter Challenge”. Outdrive one of our firefighters suited up in full gear for a chance to win a cash prize! \nPlease register as soon as possible to secure your spot! Last year we had a sellout crowd! Submit payment online here and fill out the following form: (Mailed Forms and Payment also Available\, please inquire below). \nPlease see this flyer for more information: Golf Flyer 2026.pdf \n﻿﻿﻿Loading…
URL:https://tunxishose.com/event/golf/
LOCATION:Lionheart Country Club\, 65 Nod Road\, Avon\, Connecticut\, 06001
CATEGORIES:Fundraisers
ATTACH;FMTTYPE=image/jpeg:https://tunxishose.com/wp-content/uploads/2024/02/Golf.jpg
END:VEVENT
END:VCALENDAR