BEGIN:VCALENDAR
VERSION:2.0
PRODID:-//Tunxis Hose Company No. 1 - ECPv6.15.20//NONSGML v1.0//EN
CALSCALE:GREGORIAN
METHOD:PUBLISH
X-ORIGINAL-URL:https://tunxishose.com
X-WR-CALDESC:Events for Tunxis Hose Company No. 1
REFRESH-INTERVAL;VALUE=DURATION:PT1H
X-Robots-Tag:noindex
X-PUBLISHED-TTL:PT1H
BEGIN:VTIMEZONE
TZID:America/New_York
BEGIN:DAYLIGHT
TZOFFSETFROM:-0500
TZOFFSETTO:-0400
TZNAME:EDT
DTSTART:20230312T070000
END:DAYLIGHT
BEGIN:STANDARD
TZOFFSETFROM:-0400
TZOFFSETTO:-0500
TZNAME:EST
DTSTART:20231105T060000
END:STANDARD
BEGIN:DAYLIGHT
TZOFFSETFROM:-0500
TZOFFSETTO:-0400
TZNAME:EDT
DTSTART:20240310T070000
END:DAYLIGHT
BEGIN:STANDARD
TZOFFSETFROM:-0400
TZOFFSETTO:-0500
TZNAME:EST
DTSTART:20241103T060000
END:STANDARD
BEGIN:DAYLIGHT
TZOFFSETFROM:-0500
TZOFFSETTO:-0400
TZNAME:EDT
DTSTART:20250309T070000
END:DAYLIGHT
BEGIN:STANDARD
TZOFFSETFROM:-0400
TZOFFSETTO:-0500
TZNAME:EST
DTSTART:20251102T060000
END:STANDARD
BEGIN:DAYLIGHT
TZOFFSETFROM:-0500
TZOFFSETTO:-0400
TZNAME:EDT
DTSTART:20260308T070000
END:DAYLIGHT
BEGIN:STANDARD
TZOFFSETFROM:-0400
TZOFFSETTO:-0500
TZNAME:EST
DTSTART:20261101T060000
END:STANDARD
END:VTIMEZONE
BEGIN:VEVENT
DTSTART;VALUE=DATE:20251116
DTEND;VALUE=DATE:20251117
DTSTAMP:20260423T074450
CREATED:20240224T192637Z
LAST-MODIFIED:20250402T223540Z
UID:422-1763251200-1763337599@tunxishose.com
SUMMARY:Fall Breakfast
DESCRIPTION:
URL:https://tunxishose.com/event/fall-breakfast/
LOCATION:Tunxis Hose Station\, 11 School Street\, Unionville\, CT\, 06085\, United States
CATEGORIES:Fundraisers
ATTACH;FMTTYPE=image/jpeg:https://tunxishose.com/wp-content/uploads/2024/02/Breakfast.jpg
END:VEVENT
BEGIN:VEVENT
DTSTART;TZID=America/New_York:20251025T110000
DTEND;TZID=America/New_York:20251025T150000
DTSTAMP:20260423T074450
CREATED:20240224T192551Z
LAST-MODIFIED:20250402T223629Z
UID:419-1761390000-1761404400@tunxishose.com
SUMMARY:Car Show
DESCRIPTION:
URL:https://tunxishose.com/event/car-show/
LOCATION:1690 New Britian Avenue\, 1690 New Britain Ave\, Farmington\, CT\, 06032\, United States
CATEGORIES:Fundraisers
ATTACH;FMTTYPE=image/jpeg:https://tunxishose.com/wp-content/uploads/2024/02/CarShow.jpg
END:VEVENT
BEGIN:VEVENT
DTSTART;VALUE=DATE:20250710
DTEND;VALUE=DATE:20250713
DTSTAMP:20260423T074450
CREATED:20240224T192306Z
LAST-MODIFIED:20250508T235540Z
UID:416-1752105600-1752364799@tunxishose.com
SUMMARY:Carnival
DESCRIPTION:Thursday July 10 – Family night (buy a bracelet and ride the rides all night) – music by Tribulations!Friday July 11 – Carnival Open 6:00pm – FIREWORKS 9:30pmSaturday July 12 – 131st Anniversary Fireman’s Parade 6:00pm \nCome and enjoy our famous Fried Dough (still with Uncle Bills secret sauce)\, hamburgers\, sausage burgers\, hot dogs\, french fries and beverages. Have fun on the rides or win a prize at one of our games. Fun for the whole family. \nCASH ONLY! \nMidway provided by Rainbow Amusements – https://ctcarnival.com
URL:https://tunxishose.com/event/carnival/
LOCATION:Union School\, 173 School St\, Unionville\, CT\, 06085\, United States
CATEGORIES:Fundraisers
ATTACH;FMTTYPE=image/jpeg:https://tunxishose.com/wp-content/uploads/2024/02/Carnival.jpg
END:VEVENT
BEGIN:VEVENT
DTSTART;TZID=America/New_York:20250518T073000
DTEND;TZID=America/New_York:20250518T073000
DTSTAMP:20260423T074450
CREATED:20240224T191816Z
LAST-MODIFIED:20250402T223953Z
UID:409-1747553400-1747553400@tunxishose.com
SUMMARY:Spring Breakfast
DESCRIPTION:Come enjoy a great breakfast and support your local volunteer fire department. We have eggs to order\, French toast\, home fried potatoes\, sausage\, ham\, coffee\, tea\, milk and juice.
URL:https://tunxishose.com/event/spring-breakfast/
LOCATION:Tunxis Hose Station\, 11 School Street\, Unionville\, CT\, 06085\, United States
CATEGORIES:Fundraisers
ATTACH;FMTTYPE=image/jpeg:https://tunxishose.com/wp-content/uploads/2024/02/Breakfast.jpg
END:VEVENT
BEGIN:VEVENT
DTSTART;TZID=America/New_York:20240309T160000
DTEND;TZID=America/New_York:20240309T190000
DTSTAMP:20260423T074450
CREATED:20240220T235136Z
LAST-MODIFIED:20240307T035841Z
UID:388-1710000000-1710010800@tunxishose.com
SUMMARY:Pasta Dinner
DESCRIPTION:Come down and enjoy a GREAT pasta dinner! \nWe’ll have: \n\nPasta with Sauce\, Meatballs & Sausage\nFresh Tossed Salad\nFresh Rolls from Harvest Bakery\nJuice/Milk/Coffee/Tea\nCakes for dessert!\n\nFeel free to bring a bottle of wine to enjoy with your meal! \nPrices: \nAdults – $14 \nSeniors & Children under 10 – $10
URL:https://tunxishose.com/event/pasta-dinner/
LOCATION:Tunxis Hose Station\, 11 School Street\, Unionville\, CT\, 06085\, United States
CATEGORIES:Fundraisers
ATTACH;FMTTYPE=image/jpeg:https://tunxishose.com/wp-content/uploads/2024/02/Pasta.jpg
END:VEVENT
END:VCALENDAR