BEGIN:VCALENDAR
VERSION:2.0
PRODID:-//Tunxis Hose Company No. 1 - ECPv6.15.20//NONSGML v1.0//EN
CALSCALE:GREGORIAN
METHOD:PUBLISH
X-ORIGINAL-URL:https://tunxishose.com
X-WR-CALDESC:Events for Tunxis Hose Company No. 1
REFRESH-INTERVAL;VALUE=DURATION:PT1H
X-Robots-Tag:noindex
X-PUBLISHED-TTL:PT1H
BEGIN:VTIMEZONE
TZID:America/New_York
BEGIN:DAYLIGHT
TZOFFSETFROM:-0500
TZOFFSETTO:-0400
TZNAME:EDT
DTSTART:20240310T070000
END:DAYLIGHT
BEGIN:STANDARD
TZOFFSETFROM:-0400
TZOFFSETTO:-0500
TZNAME:EST
DTSTART:20241103T060000
END:STANDARD
BEGIN:DAYLIGHT
TZOFFSETFROM:-0500
TZOFFSETTO:-0400
TZNAME:EDT
DTSTART:20250309T070000
END:DAYLIGHT
BEGIN:STANDARD
TZOFFSETFROM:-0400
TZOFFSETTO:-0500
TZNAME:EST
DTSTART:20251102T060000
END:STANDARD
BEGIN:DAYLIGHT
TZOFFSETFROM:-0500
TZOFFSETTO:-0400
TZNAME:EDT
DTSTART:20260308T070000
END:DAYLIGHT
BEGIN:STANDARD
TZOFFSETFROM:-0400
TZOFFSETTO:-0500
TZNAME:EST
DTSTART:20261101T060000
END:STANDARD
END:VTIMEZONE
BEGIN:VEVENT
DTSTART;TZID=America/New_York:20250518T073000
DTEND;TZID=America/New_York:20250518T073000
DTSTAMP:20260423T235218
CREATED:20240224T191816Z
LAST-MODIFIED:20250402T223953Z
UID:409-1747553400-1747553400@tunxishose.com
SUMMARY:Spring Breakfast
DESCRIPTION:Come enjoy a great breakfast and support your local volunteer fire department. We have eggs to order\, French toast\, home fried potatoes\, sausage\, ham\, coffee\, tea\, milk and juice.
URL:https://tunxishose.com/event/spring-breakfast/
LOCATION:Tunxis Hose Station\, 11 School Street\, Unionville\, CT\, 06085\, United States
CATEGORIES:Fundraisers
ATTACH;FMTTYPE=image/jpeg:https://tunxishose.com/wp-content/uploads/2024/02/Breakfast.jpg
END:VEVENT
END:VCALENDAR